BEGIN:VCALENDAR
VERSION:2.0
PRODID:-//Drumchapel and Clydebank Kayak Club: Glasgow&#039;s leading recreational canoe club - ECPv6.15.20//NONSGML v1.0//EN
CALSCALE:GREGORIAN
METHOD:PUBLISH
X-ORIGINAL-URL:https://dckc.co.uk
X-WR-CALDESC:Events for Drumchapel and Clydebank Kayak Club: Glasgow&#039;s leading recreational canoe club
REFRESH-INTERVAL;VALUE=DURATION:PT1H
X-Robots-Tag:noindex
X-PUBLISHED-TTL:PT1H
BEGIN:VTIMEZONE
TZID:Europe/London
BEGIN:DAYLIGHT
TZOFFSETFROM:+0000
TZOFFSETTO:+0100
TZNAME:BST
DTSTART:20230326T010000
END:DAYLIGHT
BEGIN:STANDARD
TZOFFSETFROM:+0100
TZOFFSETTO:+0000
TZNAME:GMT
DTSTART:20231029T010000
END:STANDARD
BEGIN:DAYLIGHT
TZOFFSETFROM:+0000
TZOFFSETTO:+0100
TZNAME:BST
DTSTART:20240331T010000
END:DAYLIGHT
BEGIN:STANDARD
TZOFFSETFROM:+0100
TZOFFSETTO:+0000
TZNAME:GMT
DTSTART:20241027T010000
END:STANDARD
BEGIN:DAYLIGHT
TZOFFSETFROM:+0000
TZOFFSETTO:+0100
TZNAME:BST
DTSTART:20250330T010000
END:DAYLIGHT
BEGIN:STANDARD
TZOFFSETFROM:+0100
TZOFFSETTO:+0000
TZNAME:GMT
DTSTART:20251026T010000
END:STANDARD
BEGIN:DAYLIGHT
TZOFFSETFROM:+0000
TZOFFSETTO:+0100
TZNAME:BST
DTSTART:20260329T010000
END:DAYLIGHT
BEGIN:STANDARD
TZOFFSETFROM:+0100
TZOFFSETTO:+0000
TZNAME:GMT
DTSTART:20261025T010000
END:STANDARD
END:VTIMEZONE
BEGIN:VEVENT
DTSTART;TZID=Europe/London:20250628T080000
DTEND;TZID=Europe/London:20250629T170000
DTSTAMP:20260423T140850
CREATED:20250303T152410Z
LAST-MODIFIED:20250616T132306Z
UID:10000651-1751097600-1751216400@dckc.co.uk
SUMMARY:Ulva & Geometra Weekender
DESCRIPTION:A 2 day paddle with possible circumnavigation of Ulva and Geometra\, depending on conditions and skill level of the group. Camping on south shore of Ulva. Participants must be confident to paddle 20km. This journey is within remit for Grade A and is suitable for paddlers new to kayak camping. Numbers will be limited by carpark availability so it is essential to be prepared to car share. \nTrip Leaders:  Pat Smith\, Celia Gray \n  \nTHIS TRIP IS NOW FULL \n  \n 
URL:https://dckc.co.uk/event/ulva-geometra-weekender-2/
CATEGORIES:Sea Kayak - A trip
ATTACH;FMTTYPE=image/jpeg:https://dckc.co.uk/wp-content/uploads/908px-Blaeu_-_Atlas_of_Scotland_1654_-_MVLA_INSVLA_-_The_Isle_of_Mull.jpg
END:VEVENT
BEGIN:VEVENT
DTSTART;TZID=Europe/London:20250111T090000
DTEND;TZID=Europe/London:20250111T170000
DTSTAMP:20260423T140850
CREATED:20241230T130745Z
LAST-MODIFIED:20241230T135203Z
UID:10000497-1736586000-1736614800@dckc.co.uk
SUMMARY:Mince Pie Paddle / Second Saturday Paddle
DESCRIPTION:The Mince Pie paddle is a great DCKC tradition. Always the last weekend before Christmas unless the weather says No! So we have rescheduled for Saturday 11th January 2025. We set off from Millarochy Bay to Inchcailloch\, have a BBQ\, mince pies on BBQ after. Then a wee walk up to summit for beautiful view up Loch Lomond. Fingers crossed we get good weather this time round!\nContact Janice to express interest on janice.gow.jg@gmail.com. \nTrip leader Pat Smith 07747777266 patsmith.pas@gmail.com
URL:https://dckc.co.uk/event/mince-pie-paddle-second-saturday-paddle/
CATEGORIES:Sea Kayak - A trip
ATTACH;FMTTYPE=image/jpeg:https://dckc.co.uk/wp-content/uploads/Post-image-1.jpg
END:VEVENT
BEGIN:VEVENT
DTSTART;VALUE=DATE:20241019
DTEND;VALUE=DATE:20241020
DTSTAMP:20260423T140850
CREATED:20240406T185226Z
LAST-MODIFIED:20240925T102055Z
UID:10000400-1729296000-1729382399@dckc.co.uk
SUMMARY:ROOTS Trip
DESCRIPTION:You have the basics of manoeuvring a sea kayak and keeping it going in a straight line. Now you want to get out into a coastal environment and experience the joy of sea kayaking. ROOTS sessions (Reaching Out Onto The Sea) will combine a short trip with some coaching input to help you start to develop the solid sea kayaking skills that will give you the confidence to sign up for club trips. Numbers are limited and you should notify your interest for any trip to the trip leader at least 1 week in advance. Please note\, the logistics of transporting kayaks mean that it will be necessary for you to have access to a vehicle with roof bars and / or be prepared to car share. \nLead: \nPat Smith
URL:https://dckc.co.uk/event/roots-trip-6/
CATEGORIES:ROOTS Trip
ATTACH;FMTTYPE=image/jpeg:https://dckc.co.uk/wp-content/uploads/untitled.jpg
END:VEVENT
BEGIN:VEVENT
DTSTART;TZID=Europe/London:20240629T080000
DTEND;TZID=Europe/London:20240630T170000
DTSTAMP:20260423T140850
CREATED:20240131T174526Z
LAST-MODIFIED:20240617T085928Z
UID:10000232-1719648000-1719766800@dckc.co.uk
SUMMARY:Ulva & Geometra Weekender
DESCRIPTION:This 2 day paddle launches from Ulva ferry on Saturday 29th June\, meeting at 1000 and returning on Sunday 30th late afternoon. Possible circumnavigation of Ulva and Geometra\, depending on conditions and skill level of the group. Camping on south shore of Ulva. Participants must be confident to paddle 20km. This journey is within remit for Grade A and is suitable for paddlers new to kayak camping. Numbers will be limited by carpark availability so it is essential to be prepared to car share. \nTrip Leads:  Pat Smith and Celia Gray \nTHIS TRIP IS NOW FULL \n 
URL:https://dckc.co.uk/event/ulva-geometra-weekender/
CATEGORIES:Sea Kayak - A trip
ATTACH;FMTTYPE=image/jpeg:https://dckc.co.uk/wp-content/uploads/908px-Blaeu_-_Atlas_of_Scotland_1654_-_MVLA_INSVLA_-_The_Isle_of_Mull.jpg
END:VEVENT
BEGIN:VEVENT
DTSTART;VALUE=DATE:20240615
DTEND;VALUE=DATE:20240616
DTSTAMP:20260423T140850
CREATED:20231222T192004Z
LAST-MODIFIED:20240612T135459Z
UID:10000405-1718442000-1718470800@dckc.co.uk
SUMMARY:Second Saturday Paddle 2024
DESCRIPTION:  \nA social paddle on the Second Saturday of each month.   These will be “grade A” paddles\, exploring interesting locations around Glasgow – coasts\, lochs\, canals etc.  \n\nTRIPS & ORGANISERS 2024 Second Saturday Paddles\n\n\n\nJanuary 13th: Leader: Richard B. – 07803 150 172 // Assistant Leader: Celia\nFebruary 10th: Leader: Leigh M. – 07748 326 210 // Assistant Leader: Ian McCl\nMarch 9th: Option A – Clyde / Option B – Kirkie canal:  Leader: Bev O. – 07758 437 305 // Assistant Leader: Janice G.\nApril 21st: [ PLEASE NOTE: April’s SS Paddle will be on a Sunday ] Leader: Pat S. – patsmith.pas@gmail.com // Assistant: Ewen D.\nMay 11th: Fairlie > Millport – Leader: Andrew MacColl – 07768 178 000 // Assistant Leaders: Carly + Donald\nJune 15th: The Bonny Banks of Loch Lomond! Luss > Balloch (one way trip) Danny 07484 314985 / Assistant Leader: Paul\nJuly > Oct: tbc\n\n\nAdditional Info \nThe Second Saturday paddles that fall on even months 2/4/6/8/10/12 – Feb/Apr/Jun/Aug/Oct/Dec – will be particularly good for new paddlers who may not have Kayaked outdoors yet\, but may have been through DCKC Introduction to Kayaking sessions in the Pool or Loch Lomond. \nDetails for each trip are typically posted nearer to the time through WhatsApp or SMS/email. If you object to being added to a Whatsapp group or email list for the trip please indicate this to the leader / organiser when expressing an interest.   By default you will be added to group communications which are the usual\, but not the only way\, of updating everyone with trip details \nThe trip may feature a curry or meal following the trip\, although this is at the discretion of the Leader or a team member willing to organise this. \nFor information on what to bring see our equipment lists pages \n  
URL:https://dckc.co.uk/event/second-saturday-paddle-3/2024-06-15/
CATEGORIES:Second Saturday Paddle
ATTACH;FMTTYPE=image/jpeg:https://dckc.co.uk/wp-content/uploads/DSCF6312.jpg
ORGANIZER;CN="Bev O.":MAILTO:ouzmanb@aol.com
END:VEVENT
BEGIN:VEVENT
DTSTART;VALUE=DATE:20240421
DTEND;VALUE=DATE:20240422
DTSTAMP:20260423T140850
CREATED:20240311T121436Z
LAST-MODIFIED:20240311T121436Z
UID:10000356-1713657600-1713743999@dckc.co.uk
SUMMARY:Exploring River Clyde (Second Saturday Paddle on Sunday 21st April)
DESCRIPTION:Paddle from Erskine Bridge to mouth of the River Cart\, explore the estuary and return\, taking in Newshot Island boat ‘graveyard’. The Clyde is steeped in industrial / maritime history. This trip opens the door to exploring some of that heritage. Total distance 14km. Venue may change. \nSuitable for beginners \nLeader: Pat Smith if interested contact patsmith.pas@gmail.com \nSecond: Ewen Douglas
URL:https://dckc.co.uk/event/exploring-river-clyde-second-saturday-paddle-on-sunday-21st-april/
ATTACH;FMTTYPE=image/jpeg:https://dckc.co.uk/wp-content/uploads/DSC02652-2-1.jpg
END:VEVENT
BEGIN:VEVENT
DTSTART;VALUE=DATE:20240113
DTEND;VALUE=DATE:20240114
DTSTAMP:20260423T140850
CREATED:20231222T192004Z
LAST-MODIFIED:20240612T135459Z
UID:10000189-1705104000-1705190399@dckc.co.uk
SUMMARY:Second Saturday Paddle 2024
DESCRIPTION:  \nA social paddle on the Second Saturday of each month.   These will be “grade A” paddles\, exploring interesting locations around Glasgow – coasts\, lochs\, canals etc.  \n\nTRIPS & ORGANISERS 2024 Second Saturday Paddles\n\n\n\nJanuary 13th: Leader: Richard B. – 07803 150 172 // Assistant Leader: Celia\nFebruary 10th: Leader: Leigh M. – 07748 326 210 // Assistant Leader: Ian McCl\nMarch 9th: Option A – Clyde / Option B – Kirkie canal:  Leader: Bev O. – 07758 437 305 // Assistant Leader: Janice G.\nApril 21st: [ PLEASE NOTE: April’s SS Paddle will be on a Sunday ] Leader: Pat S. – patsmith.pas@gmail.com // Assistant: Ewen D.\nMay 11th: Fairlie > Millport – Leader: Andrew MacColl – 07768 178 000 // Assistant Leaders: Carly + Donald\nJune 15th: The Bonny Banks of Loch Lomond! Luss > Balloch (one way trip) Danny 07484 314985 / Assistant Leader: Paul\nJuly > Oct: tbc\n\n\nAdditional Info \nThe Second Saturday paddles that fall on even months 2/4/6/8/10/12 – Feb/Apr/Jun/Aug/Oct/Dec – will be particularly good for new paddlers who may not have Kayaked outdoors yet\, but may have been through DCKC Introduction to Kayaking sessions in the Pool or Loch Lomond. \nDetails for each trip are typically posted nearer to the time through WhatsApp or SMS/email. If you object to being added to a Whatsapp group or email list for the trip please indicate this to the leader / organiser when expressing an interest.   By default you will be added to group communications which are the usual\, but not the only way\, of updating everyone with trip details \nThe trip may feature a curry or meal following the trip\, although this is at the discretion of the Leader or a team member willing to organise this. \nFor information on what to bring see our equipment lists pages \n  
URL:https://dckc.co.uk/event/second-saturday-paddle-3/2024-01-13/
CATEGORIES:Second Saturday Paddle
ATTACH;FMTTYPE=image/jpeg:https://dckc.co.uk/wp-content/uploads/DSCF6312.jpg
ORGANIZER;CN="Bev O.":MAILTO:ouzmanb@aol.com
END:VEVENT
END:VCALENDAR