BEGIN:VCALENDAR
VERSION:2.0
PRODID:-//Drumchapel and Clydebank Kayak Club: Glasgow&#039;s leading recreational canoe club - ECPv6.15.20//NONSGML v1.0//EN
CALSCALE:GREGORIAN
METHOD:PUBLISH
X-ORIGINAL-URL:https://dckc.co.uk
X-WR-CALDESC:Events for Drumchapel and Clydebank Kayak Club: Glasgow&#039;s leading recreational canoe club
REFRESH-INTERVAL;VALUE=DURATION:PT1H
X-Robots-Tag:noindex
X-PUBLISHED-TTL:PT1H
BEGIN:VTIMEZONE
TZID:Europe/London
BEGIN:DAYLIGHT
TZOFFSETFROM:+0000
TZOFFSETTO:+0100
TZNAME:BST
DTSTART:20230326T010000
END:DAYLIGHT
BEGIN:STANDARD
TZOFFSETFROM:+0100
TZOFFSETTO:+0000
TZNAME:GMT
DTSTART:20231029T010000
END:STANDARD
BEGIN:DAYLIGHT
TZOFFSETFROM:+0000
TZOFFSETTO:+0100
TZNAME:BST
DTSTART:20240331T010000
END:DAYLIGHT
BEGIN:STANDARD
TZOFFSETFROM:+0100
TZOFFSETTO:+0000
TZNAME:GMT
DTSTART:20241027T010000
END:STANDARD
BEGIN:DAYLIGHT
TZOFFSETFROM:+0000
TZOFFSETTO:+0100
TZNAME:BST
DTSTART:20250330T010000
END:DAYLIGHT
BEGIN:STANDARD
TZOFFSETFROM:+0100
TZOFFSETTO:+0000
TZNAME:GMT
DTSTART:20251026T010000
END:STANDARD
END:VTIMEZONE
BEGIN:VEVENT
DTSTART;VALUE=DATE:20241019
DTEND;VALUE=DATE:20241020
DTSTAMP:20260421T155111
CREATED:20240406T185226Z
LAST-MODIFIED:20240925T102055Z
UID:10000400-1729296000-1729382399@dckc.co.uk
SUMMARY:ROOTS Trip
DESCRIPTION:You have the basics of manoeuvring a sea kayak and keeping it going in a straight line. Now you want to get out into a coastal environment and experience the joy of sea kayaking. ROOTS sessions (Reaching Out Onto The Sea) will combine a short trip with some coaching input to help you start to develop the solid sea kayaking skills that will give you the confidence to sign up for club trips. Numbers are limited and you should notify your interest for any trip to the trip leader at least 1 week in advance. Please note\, the logistics of transporting kayaks mean that it will be necessary for you to have access to a vehicle with roof bars and / or be prepared to car share. \nLead: \nPat Smith
URL:https://dckc.co.uk/event/roots-trip-6/
CATEGORIES:ROOTS Trip
ATTACH;FMTTYPE=image/jpeg:https://dckc.co.uk/wp-content/uploads/untitled.jpg
END:VEVENT
BEGIN:VEVENT
DTSTART;VALUE=DATE:20240921
DTEND;VALUE=DATE:20240922
DTSTAMP:20260421T155111
CREATED:20240406T185142Z
LAST-MODIFIED:20240905T083552Z
UID:10000399-1726876800-1726963199@dckc.co.uk
SUMMARY:ROOTS Trip
DESCRIPTION:You have the basics of manoeuvring a sea kayak and keeping it going in a straight line. Now you want to get out into a coastal environment and experience the joy of sea kayaking. ROOTS sessions (Reaching Out Onto The Sea) will combine a short trip with some coaching input to help you start to develop the solid sea kayaking skills that will give you the confidence to sign up for club trips. Numbers are limited and you should notify your interest for any trip to the trip leader at least 1 week in advance. Please note\, the logistics of transporting kayaks mean that it will be necessary for you to have access to a vehicle with roof bars and / or be prepared to car share. \nLead: \nAndrew McCall \n07768178000
URL:https://dckc.co.uk/event/roots-trip-5/
CATEGORIES:ROOTS Trip
ATTACH;FMTTYPE=image/jpeg:https://dckc.co.uk/wp-content/uploads/untitled.jpg
END:VEVENT
BEGIN:VEVENT
DTSTART;VALUE=DATE:20240817
DTEND;VALUE=DATE:20240818
DTSTAMP:20260421T155111
CREATED:20240406T185041Z
LAST-MODIFIED:20240406T185503Z
UID:10000398-1723852800-1723939199@dckc.co.uk
SUMMARY:ROOTS Trip
DESCRIPTION:You have the basics of manoeuvring a sea kayak and keeping it going in a straight line. Now you want to get out into a coastal environment and experience the joy of sea kayaking. ROOTS sessions (Reaching Out Onto The Sea) will combine a short trip with some coaching input to help you start to develop the solid sea kayaking skills that will give you the confidence to sign up for club trips. Numbers are limited and you should notify your interest for any trip to the trip leader at least 1 week in advance. Please note\, the logistics of transporting kayaks mean that it will be necessary for you to have access to a vehicle with roof bars and / or be prepared to car share. \nLead: \nCelia Gray \n07762 709 027
URL:https://dckc.co.uk/event/roots-trip-4/
CATEGORIES:ROOTS Trip
ATTACH;FMTTYPE=image/jpeg:https://dckc.co.uk/wp-content/uploads/untitled.jpg
END:VEVENT
BEGIN:VEVENT
DTSTART;VALUE=DATE:20240720
DTEND;VALUE=DATE:20240721
DTSTAMP:20260421T155111
CREATED:20240406T184940Z
LAST-MODIFIED:20240406T184940Z
UID:10000397-1721433600-1721519999@dckc.co.uk
SUMMARY:ROOTS Trip
DESCRIPTION:You have the basics of manoeuvring a sea kayak and keeping it going in a straight line. Now you want to get out into a coastal environment and experience the joy of sea kayaking. ROOTS sessions (Reaching Out Onto The Sea) will combine a short trip with some coaching input to help you start to develop the solid sea kayaking skills that will give you the confidence to sign up for club trips. Numbers are limited and you should notify your interest for any trip to the trip leader at least 1 week in advance. Please note\, the logistics of transporting kayaks mean that it will be necessary for you to have access to a vehicle with roof bars and / or be prepared to car share. \nLead: \nAlan Rollo \n07775 827 981
URL:https://dckc.co.uk/event/roots-trip-3/
CATEGORIES:ROOTS Trip
ATTACH;FMTTYPE=image/jpeg:https://dckc.co.uk/wp-content/uploads/untitled.jpg
END:VEVENT
BEGIN:VEVENT
DTSTART;VALUE=DATE:20240616
DTEND;VALUE=DATE:20240617
DTSTAMP:20260421T155111
CREATED:20240406T184108Z
LAST-MODIFIED:20240406T184749Z
UID:10000395-1718496000-1718582399@dckc.co.uk
SUMMARY:ROOTS Trip
DESCRIPTION:You have the basics of manoeuvring a sea kayak and keeping it going in a straight line. Now you want to get out into a coastal environment and experience the joy of sea kayaking. ROOTS sessions (Reaching Out Onto The Sea) will combine a short trip with some coaching input to help you start to develop the solid sea kayaking skills that will give you the confidence to sign up for club trips. Numbers are limited and you should notify your interest for any trip to the trip leader at least 1 week in advance. Please note\, the logistics of transporting kayaks mean that it will be necessary for you to have access to a vehicle with roof bars and / or be prepared to car share. \nLead: \nAlan Rollo \n07775 827 981
URL:https://dckc.co.uk/event/roots-trip/
CATEGORIES:ROOTS Trip
ATTACH;FMTTYPE=image/jpeg:https://dckc.co.uk/wp-content/uploads/untitled.jpg
END:VEVENT
BEGIN:VEVENT
DTSTART;VALUE=DATE:20240519
DTEND;VALUE=DATE:20240520
DTSTAMP:20260421T155111
CREATED:20240406T184624Z
LAST-MODIFIED:20240406T184624Z
UID:10000396-1716076800-1716163199@dckc.co.uk
SUMMARY:ROOTS Trip
DESCRIPTION:You have the basics of manoeuvring a sea kayak and keeping it going in a straight line. Now you want to get out into a coastal environment and experience the joy of sea kayaking. ROOTS sessions (Reaching Out Onto The Sea) will combine a short trip with some coaching input to help you start to develop the solid sea kayaking skills that will give you the confidence to sign up for club trips. Numbers are limited and you should notify your interest for any trip to the trip leader at least 1 week in advance. Please note\, the logistics of transporting kayaks mean that it will be necessary for you to have access to a vehicle with roof bars and / or be prepared to car share. \nLead: \nGordon Smith \n07980 578 206
URL:https://dckc.co.uk/event/roots-trip-2/
CATEGORIES:ROOTS Trip
ATTACH;FMTTYPE=image/jpeg:https://dckc.co.uk/wp-content/uploads/untitled.jpg
END:VEVENT
END:VCALENDAR