BEGIN:VCALENDAR
VERSION:2.0
PRODID:-//Drumchapel and Clydebank Kayak Club: Glasgow&#039;s leading recreational canoe club - ECPv6.15.20//NONSGML v1.0//EN
CALSCALE:GREGORIAN
METHOD:PUBLISH
X-ORIGINAL-URL:https://dckc.co.uk
X-WR-CALDESC:Events for Drumchapel and Clydebank Kayak Club: Glasgow&#039;s leading recreational canoe club
REFRESH-INTERVAL;VALUE=DURATION:PT1H
X-Robots-Tag:noindex
X-PUBLISHED-TTL:PT1H
BEGIN:VTIMEZONE
TZID:Europe/London
BEGIN:DAYLIGHT
TZOFFSETFROM:+0000
TZOFFSETTO:+0100
TZNAME:BST
DTSTART:20250330T010000
END:DAYLIGHT
BEGIN:STANDARD
TZOFFSETFROM:+0100
TZOFFSETTO:+0000
TZNAME:GMT
DTSTART:20251026T010000
END:STANDARD
BEGIN:DAYLIGHT
TZOFFSETFROM:+0000
TZOFFSETTO:+0100
TZNAME:BST
DTSTART:20260329T010000
END:DAYLIGHT
BEGIN:STANDARD
TZOFFSETFROM:+0100
TZOFFSETTO:+0000
TZNAME:GMT
DTSTART:20261025T010000
END:STANDARD
BEGIN:DAYLIGHT
TZOFFSETFROM:+0000
TZOFFSETTO:+0100
TZNAME:BST
DTSTART:20270328T010000
END:DAYLIGHT
BEGIN:STANDARD
TZOFFSETFROM:+0100
TZOFFSETTO:+0000
TZNAME:GMT
DTSTART:20271031T010000
END:STANDARD
END:VTIMEZONE
BEGIN:VEVENT
DTSTART;TZID=Europe/London:20260502T120000
DTEND;TZID=Europe/London:20260504T170000
DTSTAMP:20260425T175100
CREATED:20260208T173638Z
LAST-MODIFIED:20260211T090108Z
UID:10000925-1777723200-1777914000@dckc.co.uk
SUMMARY:Isle of Gigha Bank holiday adventure
DESCRIPTION:Route Description  \nGigha is a beautiful self-sustaining Island on the Kintyre Coast\, it offers beautiful blue seas\, sandy beaches and plenty of wildlife including a population of wild goats on Cara.  The plan would be to leave from Tayinloan Ferry port on the Saturday and cross to Gigha (Ferry across may be preferred depending on weather and group choice) Two nights wild camping required with the fall back of utilising the campsite on Gigha as a backup plan. \nDay 1 Travelling down the East Side of Gigha and exploring the isle of Cara for an overnight camping on a beautiful\, sheltered beach \nDay 2 paddling around the South of Cara and the West side of Gigha to set up camp on the beautiful twin beaches on the NW of Gigha \n This is a Grade A/B \nPossible 3km crossing and small tidal considerations\, the West side of Gigha can be  exposed to Westerly winds \n Distance total trip distance 26 km \nFeel free to call me for more info or drop me an email \nCelia 07762709027\, or ceciliagray@btinternet.com
URL:https://dckc.co.uk/event/isle-of-gigha-bank-holiday-adventure-2026/
CATEGORIES:Sea Kayak - A trip,Sea Kayak - B Trip
ATTACH;FMTTYPE=image/jpeg:https://dckc.co.uk/wp-content/uploads/IMG_5954.jpg
ORGANIZER;CN="Celia":MAILTO:ceciliagray@btinternet.com
END:VEVENT
BEGIN:VEVENT
DTSTART;VALUE=DATE:20260510
DTEND;VALUE=DATE:20260511
DTSTAMP:20260425T175100
CREATED:20260208T160953Z
LAST-MODIFIED:20260308T113829Z
UID:10000918-1778371200-1778457599@dckc.co.uk
SUMMARY:Lochgoilhead to Arrochar
DESCRIPTION:A 24km sea journey from Lochgoilhead to Arrochar over the scenic waters of Loch Goil and Loch Long. \nThe trip will include a lunch stop at Carrick Castle and a further stop to explore Mark Cottage bothy. \nWe will also pass Finnart Oil Terminal and the Royal Navy’s Glenmallan Jetty. It’s a scenic paddle surrounded by steep mountains with occasional wild life. \nThis trip will be suitable for the less experienced paddler looking for a challenge but reasonably confident they can paddle 24km.  It is also suitable for the more experienced paddler looking for a relaxed scenic paddle. \nThis is a one-way trip which will require a shuttle to be set-up. \nTime: On the water for 10.30 \nEvent Category: Sea Kayak A/B trip \nIf interested contact Danny – 07484 314985
URL:https://dckc.co.uk/event/lochgoilhead-to-arrochar/
CATEGORIES:Sea Kayak - A trip,Sea Kayak - B Trip
ATTACH;FMTTYPE=image/jpeg:https://dckc.co.uk/wp-content/uploads/gareloch2.jpg
ORGANIZER;CN="Danny":MAILTO:dannynisbet2204@gmail.com
END:VEVENT
BEGIN:VEVENT
DTSTART;VALUE=DATE:20260517
DTEND;VALUE=DATE:20260518
DTSTAMP:20260425T175100
CREATED:20241122T100617Z
LAST-MODIFIED:20260208T163022Z
UID:10000492-1778976000-1779062399@dckc.co.uk
SUMMARY:Bass Rock
DESCRIPTION:Grade B trip of around 15km. \nMeeting times and locations tbc.
URL:https://dckc.co.uk/event/the-bass-rock-2026/
CATEGORIES:Sea Kayak - B Trip
ATTACH;FMTTYPE=image/jpeg:https://dckc.co.uk/wp-content/uploads/bass-rock.jpg
END:VEVENT
BEGIN:VEVENT
DTSTART;VALUE=DATE:20260523
DTEND;VALUE=DATE:20260524
DTSTAMP:20260425T175100
CREATED:20260208T161210Z
LAST-MODIFIED:20260208T163147Z
UID:10000919-1779494400-1779580799@dckc.co.uk
SUMMARY:Maidens to Dunure Harbour\, round trip
DESCRIPTION:  \nOne of my favourites. Scenic Ayrshire Coast\, past Culzean Castle to idyllic Dunure harbour for lunch.  Explore it’s ruined castle. Coffee and cake available on get-out at Maidens. \nText Iain – 07990840300 – week in advance.
URL:https://dckc.co.uk/event/maidens-to-dunure-harbour-round-trip-2026/
CATEGORIES:Sea Kayak - A trip,Sea Kayak - B Trip
ATTACH;FMTTYPE=image/jpeg:https://dckc.co.uk/wp-content/uploads/maidens.jpeg
END:VEVENT
END:VCALENDAR